Package: granulator Version: 1.17.0 Maintainer: Sabina Pfister MaintainerEmail: sabina.pfister at novartis.com git_url: https://git.bioconductor.org/packages/granulator git_branch: devel git_last_commit: 0a7bef1 git_last_commit_date: 2025-04-15 12:27:55 -0400 (Tue, 15 Apr 2025)