Package: gpls Version: 1.81.0 Command: F:\biocbuild\bbs-3.22-bioc\R\bin\R.exe CMD INSTALL gpls StartedAt: 2025-06-29 15:21:17 -0400 (Sun, 29 Jun 2025) EndedAt: 2025-06-29 15:21:25 -0400 (Sun, 29 Jun 2025) EllapsedTime: 7.7 seconds RetCode: 0 Status: OK