Package: gpls Version: 1.81.0 Command: chmod a+r gpls -R && F:\biocbuild\bbs-3.22-bioc\R\bin\R.exe CMD build --keep-empty-dirs --no-resave-data gpls StartedAt: 2025-06-29 19:27:24 -0400 (Sun, 29 Jun 2025) EndedAt: 2025-06-29 19:27:41 -0400 (Sun, 29 Jun 2025) EllapsedTime: 17.2 seconds RetCode: 0 Status: OK PackageFile: gpls_1.81.0.tar.gz PackageFileSize: 103.1 KiB