Package: goseq Version: 1.61.1 Command: F:\biocbuild\bbs-3.22-bioc\R\bin\R.exe CMD check --no-multiarch --install=check:goseq.install-out.txt --library=F:\biocbuild\bbs-3.22-bioc\R\library --no-vignettes --timings goseq_1.61.1.tar.gz StartedAt: 2025-08-15 03:50:55 -0400 (Fri, 15 Aug 2025) EndedAt: 2025-08-15 03:57:19 -0400 (Fri, 15 Aug 2025) EllapsedTime: 384.1 seconds RetCode: 0 Status: OK CheckDir: goseq.Rcheck Warnings: 0