Package: goseq Version: 1.61.1 Command: rm -rf goseq.buildbin-libdir && mkdir goseq.buildbin-libdir && F:\biocbuild\bbs-3.22-bioc\R\bin\R.exe CMD INSTALL --build --library=goseq.buildbin-libdir goseq_1.61.1.tar.gz StartedAt: 2025-08-15 10:24:56 -0400 (Fri, 15 Aug 2025) EndedAt: 2025-08-15 10:25:42 -0400 (Fri, 15 Aug 2025) EllapsedTime: 45.6 seconds RetCode: 0 Status: OK PackageFile: goseq_1.61.1.zip PackageFileSize: 1.73 MiB