############################################################################## ############################################################################## ### ### Running command: ### ### rm -rf goseq.buildbin-libdir && mkdir goseq.buildbin-libdir && F:\biocbuild\bbs-3.22-bioc\R\bin\R.exe CMD INSTALL --build --library=goseq.buildbin-libdir goseq_1.61.1.tar.gz ### ############################################################################## ############################################################################## * installing *source* package 'goseq' ... ** this is package 'goseq' version '1.61.1' ** using staged installation ** R ** data ** inst ** byte-compile and prepare package for lazy loading ** help *** installing help indices ** building package indices ** installing vignettes ** testing if installed package can be loaded from temporary location ** testing if installed package can be loaded from final location ** testing if installed package keeps a record of temporary installation path * MD5 sums packaged installation of 'goseq' as goseq_1.61.1.zip * DONE (goseq)