Package: goatea Version: 0.99.9 Command: /home/biocbuild/bbs-3.22-bioc/R/bin/R CMD INSTALL goatea StartedAt: 2025-10-03 15:45:42 -0400 (Fri, 03 Oct 2025) EndedAt: 2025-10-03 15:46:10 -0400 (Fri, 03 Oct 2025) EllapsedTime: 27.2 seconds RetCode: 0 Status: OK