Package: goatea Version: 0.99.9 Command: /home/biocbuild/bbs-3.22-bioc/R/bin/R CMD build --keep-empty-dirs --no-resave-data --md5 goatea StartedAt: 2025-10-03 17:53:47 -0400 (Fri, 03 Oct 2025) EndedAt: 2025-10-03 17:56:05 -0400 (Fri, 03 Oct 2025) EllapsedTime: 137.1 seconds RetCode: 0 Status: OK PackageFile: goatea_0.99.9.tar.gz PackageFileSize: 1.877 MiB