Package: goatea Version: 0.99.9 Command: /Library/Frameworks/R.framework/Resources/bin/R CMD check --install=check:goatea.install-out.txt --library=/Library/Frameworks/R.framework/Resources/library --no-vignettes --timings goatea_0.99.9.tar.gz StartedAt: 2025-10-05 19:49:54 -0400 (Sun, 05 Oct 2025) EndedAt: 2025-10-05 19:51:04 -0400 (Sun, 05 Oct 2025) EllapsedTime: 69.8 seconds RetCode: 0 Status: OK CheckDir: goatea.Rcheck Warnings: 0