Package: goTools Version: 1.83.0 Command: /Library/Frameworks/R.framework/Resources/bin/R CMD INSTALL goTools StartedAt: 2025-07-01 15:23:26 -0400 (Tue, 01 Jul 2025) EndedAt: 2025-07-01 15:23:32 -0400 (Tue, 01 Jul 2025) EllapsedTime: 5.3 seconds RetCode: 0 Status: OK