Package: goTools Version: 1.83.0 Command: /Library/Frameworks/R.framework/Resources/bin/R CMD check --install=check:goTools.install-out.txt --library=/Library/Frameworks/R.framework/Resources/library --no-vignettes --timings goTools_1.83.0.tar.gz StartedAt: 2025-07-01 19:32:25 -0400 (Tue, 01 Jul 2025) EndedAt: 2025-07-01 19:32:59 -0400 (Tue, 01 Jul 2025) EllapsedTime: 34.4 seconds RetCode: 0 Status: OK CheckDir: goTools.Rcheck Warnings: 0