Package: goTools Version: 1.83.0 Command: /Library/Frameworks/R.framework/Resources/bin/R CMD build --keep-empty-dirs --no-resave-data goTools StartedAt: 2025-07-01 16:29:43 -0400 (Tue, 01 Jul 2025) EndedAt: 2025-07-01 16:29:53 -0400 (Tue, 01 Jul 2025) EllapsedTime: 10.1 seconds RetCode: 0 Status: OK PackageFile: goTools_1.83.0.tar.gz PackageFileSize: 241.3 KiB