Package: goTools Version: 1.83.0 Command: rm -rf goTools.buildbin-libdir && mkdir goTools.buildbin-libdir && /Users/biocbuild/BBS/utils/build-universal.sh goTools_1.83.0.tar.gz /Library/Frameworks/R.framework/Resources/bin/R goTools.buildbin-libdir StartedAt: 2025-07-01 22:21:09 -0400 (Tue, 01 Jul 2025) EndedAt: 2025-07-01 22:21:15 -0400 (Tue, 01 Jul 2025) EllapsedTime: 6.2 seconds RetCode: 0 Status: OK PackageFile: goTools_1.83.0.tgz PackageFileSize: 260.9 KiB