Package: goSorensen Version: 1.11.0 Command: F:\biocbuild\bbs-3.22-bioc\R\bin\R.exe CMD check --no-multiarch --install=check:goSorensen.install-out.txt --library=F:\biocbuild\bbs-3.22-bioc\R\library --no-vignettes --timings goSorensen_1.11.0.tar.gz StartedAt: 2025-07-22 02:45:53 -0400 (Tue, 22 Jul 2025) EndedAt: 2025-07-22 02:54:36 -0400 (Tue, 22 Jul 2025) EllapsedTime: 523.2 seconds RetCode: 0 Status: OK CheckDir: goSorensen.Rcheck Warnings: 0