Package: goSorensen Version: 1.11.0 Command: chmod a+r goSorensen -R && F:\biocbuild\bbs-3.22-bioc\R\bin\R.exe CMD build --keep-empty-dirs --no-resave-data goSorensen StartedAt: 2025-07-20 19:26:47 -0400 (Sun, 20 Jul 2025) EndedAt: 2025-07-20 19:31:03 -0400 (Sun, 20 Jul 2025) EllapsedTime: 256.1 seconds RetCode: 0 Status: OK PackageFile: goSorensen_1.11.0.tar.gz PackageFileSize: 879.4 KiB