Package: goSorensen Version: 1.11.0 Command: rm -rf goSorensen.buildbin-libdir && mkdir goSorensen.buildbin-libdir && F:\biocbuild\bbs-3.22-bioc\R\bin\R.exe CMD INSTALL --build --library=goSorensen.buildbin-libdir goSorensen_1.11.0.tar.gz StartedAt: 2025-07-21 09:11:13 -0400 (Mon, 21 Jul 2025) EndedAt: 2025-07-21 09:11:45 -0400 (Mon, 21 Jul 2025) EllapsedTime: 32.0 seconds RetCode: 0 Status: OK PackageFile: goSorensen_1.11.0.zip PackageFileSize: 1.047 MiB