Package: goProfiles Version: 1.71.0 Command: /home/biocbuild/R/R/bin/R CMD INSTALL goProfiles StartedAt: 2025-06-30 21:10:21 -0000 (Mon, 30 Jun 2025) EndedAt: 2025-06-30 21:10:41 -0000 (Mon, 30 Jun 2025) EllapsedTime: 20.0 seconds RetCode: 0 Status: OK