Package: goProfiles Version: 1.71.0 Command: /home/biocbuild/R/R/bin/R CMD check --install=check:goProfiles.install-out.txt --library=/home/biocbuild/R/R/site-library --no-vignettes --timings goProfiles_1.71.0.tar.gz StartedAt: 2025-07-01 08:04:18 -0000 (Tue, 01 Jul 2025) EndedAt: 2025-07-01 08:07:20 -0000 (Tue, 01 Jul 2025) EllapsedTime: 182.1 seconds RetCode: 0 Status: OK CheckDir: goProfiles.Rcheck Warnings: 0