Package: goProfiles Version: 1.71.0 Command: /home/biocbuild/R/R/bin/R CMD build --keep-empty-dirs --no-resave-data goProfiles StartedAt: 2025-07-01 00:02:44 -0000 (Tue, 01 Jul 2025) EndedAt: 2025-07-01 00:03:34 -0000 (Tue, 01 Jul 2025) EllapsedTime: 50.0 seconds RetCode: 0 Status: OK PackageFile: goProfiles_1.71.0.tar.gz PackageFileSize: 285.2 KiB