Package: gmoviz Version: 1.21.0 Command: /home/biocbuild/R/R/bin/R CMD INSTALL gmoviz StartedAt: 2025-07-17 21:16:47 -0000 (Thu, 17 Jul 2025) EndedAt: 2025-07-17 21:17:34 -0000 (Thu, 17 Jul 2025) EllapsedTime: 47.2 seconds RetCode: 0 Status: OK