Package: gmoviz Version: 1.21.0 Command: /home/biocbuild/R/R/bin/R CMD build --keep-empty-dirs --no-resave-data gmoviz StartedAt: 2025-07-18 00:09:32 -0000 (Fri, 18 Jul 2025) EndedAt: 2025-07-18 00:12:06 -0000 (Fri, 18 Jul 2025) EllapsedTime: 154.0 seconds RetCode: 0 Status: OK PackageFile: gmoviz_1.21.0.tar.gz PackageFileSize: 4.229 MiB