Package: gmoviz Version: 1.21.1 Command: rm -rf gmoviz.buildbin-libdir && mkdir gmoviz.buildbin-libdir && F:\biocbuild\bbs-3.22-bioc\R\bin\R.exe CMD INSTALL --build --library=gmoviz.buildbin-libdir gmoviz_1.21.1.tar.gz StartedAt: 2025-08-15 10:24:16 -0400 (Fri, 15 Aug 2025) EndedAt: 2025-08-15 10:25:15 -0400 (Fri, 15 Aug 2025) EllapsedTime: 59.2 seconds RetCode: 0 Status: OK PackageFile: gmoviz_1.21.1.zip PackageFileSize: 4.77 MiB