Package: gmoviz Version: 1.21.1 Command: /Library/Frameworks/R.framework/Resources/bin/R CMD build --keep-empty-dirs --no-resave-data gmoviz StartedAt: 2025-10-03 17:13:02 -0400 (Fri, 03 Oct 2025) EndedAt: 2025-10-03 17:15:06 -0400 (Fri, 03 Oct 2025) EllapsedTime: 124.4 seconds RetCode: 0 Status: OK PackageFile: gmoviz_1.21.1.tar.gz PackageFileSize: 6.665 MiB