Package: gmoviz Version: 1.21.1 Command: rm -rf gmoviz.buildbin-libdir && mkdir gmoviz.buildbin-libdir && /Users/biocbuild/BBS/utils/build-universal.sh gmoviz_1.21.1.tar.gz /Library/Frameworks/R.framework/Resources/bin/R gmoviz.buildbin-libdir StartedAt: 2025-10-04 02:08:13 -0400 (Sat, 04 Oct 2025) EndedAt: 2025-10-04 02:09:09 -0400 (Sat, 04 Oct 2025) EllapsedTime: 56.6 seconds RetCode: 0 Status: OK PackageFile: gmoviz_1.21.1.tgz PackageFileSize: 6.73 MiB