Package: gmoviz Version: 1.21.0 Command: /Library/Frameworks/R.framework/Resources/bin/R CMD INSTALL gmoviz StartedAt: 2025-07-18 15:29:57 -0400 (Fri, 18 Jul 2025) EndedAt: 2025-07-18 15:30:12 -0400 (Fri, 18 Jul 2025) EllapsedTime: 14.7 seconds RetCode: 0 Status: OK