Package: gmoviz Version: 1.21.0 Command: /Library/Frameworks/R.framework/Resources/bin/R CMD build --keep-empty-dirs --no-resave-data gmoviz StartedAt: 2025-07-18 16:28:07 -0400 (Fri, 18 Jul 2025) EndedAt: 2025-07-18 16:28:49 -0400 (Fri, 18 Jul 2025) EllapsedTime: 41.4 seconds RetCode: 0 Status: OK PackageFile: gmoviz_1.21.0.tar.gz PackageFileSize: 6.665 MiB