Package: gmoviz Version: 1.21.0 Maintainer: Kathleen Zeglinski MaintainerEmail: kathleen.zeglinski at csl.com.au git_url: https://git.bioconductor.org/packages/gmoviz git_branch: devel git_last_commit: a54a109 git_last_commit_date: 2025-04-15 11:56:09 -0400 (Tue, 15 Apr 2025)