Package: gmapR Version: 1.51.0 Command: /home/biocbuild/R/R/bin/R CMD check --install=check:gmapR.install-out.txt --library=/home/biocbuild/R/R/site-library --no-vignettes --timings gmapR_1.51.0.tar.gz StartedAt: 2025-06-27 07:46:32 -0000 (Fri, 27 Jun 2025) EndedAt: 2025-06-27 07:54:21 -0000 (Fri, 27 Jun 2025) EllapsedTime: 469.3 seconds RetCode: 0 Status: WARNINGS CheckDir: gmapR.Rcheck Warnings: 7