Package: globaltest Version: 5.63.0 Command: /home/biocbuild/R/R/bin/R CMD INSTALL globaltest StartedAt: 2025-07-03 20:50:31 -0000 (Thu, 03 Jul 2025) EndedAt: 2025-07-03 20:51:02 -0000 (Thu, 03 Jul 2025) EllapsedTime: 30.6 seconds RetCode: 0 Status: OK