Package: globalSeq Version: 1.37.0 Command: rm -rf globalSeq.buildbin-libdir && mkdir globalSeq.buildbin-libdir && F:\biocbuild\bbs-3.22-bioc\R\bin\R.exe CMD INSTALL --build --library=globalSeq.buildbin-libdir globalSeq_1.37.0.tar.gz StartedAt: 2025-07-15 09:03:58 -0400 (Tue, 15 Jul 2025) EndedAt: 2025-07-15 09:04:25 -0400 (Tue, 15 Jul 2025) EllapsedTime: 26.7 seconds RetCode: 0 Status: OK PackageFile: globalSeq_1.37.0.zip PackageFileSize: 715.3 KiB