Package: globalSeq Version: 1.37.0 Command: /Library/Frameworks/R.framework/Resources/bin/R CMD INSTALL globalSeq StartedAt: 2025-07-15 15:03:29 -0400 (Tue, 15 Jul 2025) EndedAt: 2025-07-15 15:03:40 -0400 (Tue, 15 Jul 2025) EllapsedTime: 10.9 seconds RetCode: 0 Status: OK