Package: globalSeq Version: 1.37.0 Command: /Library/Frameworks/R.framework/Resources/bin/R CMD check --install=check:globalSeq.install-out.txt --library=/Library/Frameworks/R.framework/Resources/library --no-vignettes --timings globalSeq_1.37.0.tar.gz StartedAt: 2025-07-17 19:35:55 -0400 (Thu, 17 Jul 2025) EndedAt: 2025-07-17 19:36:14 -0400 (Thu, 17 Jul 2025) EllapsedTime: 19.2 seconds RetCode: 1 Status: ERROR CheckDir: globalSeq.Rcheck Warnings: NA