Package: globalSeq Version: 1.37.0 Command: /Library/Frameworks/R.framework/Resources/bin/R CMD build --keep-empty-dirs --no-resave-data globalSeq StartedAt: 2025-07-15 16:26:57 -0400 (Tue, 15 Jul 2025) EndedAt: 2025-07-15 16:27:04 -0400 (Tue, 15 Jul 2025) EllapsedTime: 7.1 seconds RetCode: 0 Status: OK PackageFile: globalSeq_1.37.0.tar.gz PackageFileSize: 714.6 KiB