Package: globalSeq Version: 1.37.0 Command: rm -rf globalSeq.buildbin-libdir && mkdir globalSeq.buildbin-libdir && /Users/biocbuild/BBS/utils/build-universal.sh globalSeq_1.37.0.tar.gz /Library/Frameworks/R.framework/Resources/bin/R globalSeq.buildbin-libdir StartedAt: 2025-07-15 22:22:44 -0400 (Tue, 15 Jul 2025) EndedAt: 2025-07-15 22:22:46 -0400 (Tue, 15 Jul 2025) EllapsedTime: 2.0 seconds RetCode: 0 Status: OK PackageFile: globalSeq_1.37.0.tgz PackageFileSize: 711 KiB