Package: glmGamPoi Version: 1.21.0 Command: F:\biocbuild\bbs-3.22-bioc\R\bin\R.exe CMD check --no-multiarch --install=check:glmGamPoi.install-out.txt --library=F:\biocbuild\bbs-3.22-bioc\R\library --no-vignettes --timings glmGamPoi_1.21.0.tar.gz StartedAt: 2025-07-15 02:34:52 -0400 (Tue, 15 Jul 2025) EndedAt: 2025-07-15 02:39:43 -0400 (Tue, 15 Jul 2025) EllapsedTime: 291.5 seconds RetCode: 0 Status: WARNINGS CheckDir: glmGamPoi.Rcheck Warnings: 1