Package: glmGamPoi Version: 1.21.0 Command: rm -rf glmGamPoi.buildbin-libdir && mkdir glmGamPoi.buildbin-libdir && F:\biocbuild\bbs-3.22-bioc\R\bin\R.exe CMD INSTALL --build --library=glmGamPoi.buildbin-libdir glmGamPoi_1.21.0.tar.gz StartedAt: 2025-07-15 09:03:52 -0400 (Tue, 15 Jul 2025) EndedAt: 2025-07-15 09:05:30 -0400 (Tue, 15 Jul 2025) EllapsedTime: 97.9 seconds RetCode: 0 Status: OK PackageFile: glmGamPoi_1.21.0.zip PackageFileSize: 1.754 MiB