Package: glmGamPoi Version: 1.21.0 Command: /home/biocbuild/bbs-3.22-bioc/R/bin/R CMD check --install=check:glmGamPoi.install-out.txt --library=/home/biocbuild/bbs-3.22-bioc/R/site-library --timings glmGamPoi_1.21.0.tar.gz StartedAt: 2025-07-15 22:44:31 -0400 (Tue, 15 Jul 2025) EndedAt: 2025-07-15 22:54:27 -0400 (Tue, 15 Jul 2025) EllapsedTime: 596.7 seconds RetCode: 0 Status: WARNINGS CheckDir: glmGamPoi.Rcheck Warnings: 1