Package: girafe Version: 1.59.1 Command: /home/biocbuild/bbs-3.22-bioc/R/bin/R CMD INSTALL girafe StartedAt: 2025-04-08 15:55:42 -0400 (Tue, 08 Apr 2025) EndedAt: 2025-04-08 15:56:20 -0400 (Tue, 08 Apr 2025) EllapsedTime: 38.8 seconds RetCode: 0 Status: OK