Package: girafe Version: 1.59.1 Command: /home/biocbuild/bbs-3.22-bioc/R/bin/R CMD check --install=check:girafe.install-out.txt --library=/home/biocbuild/bbs-3.22-bioc/R/site-library --timings girafe_1.59.1.tar.gz StartedAt: 2025-04-08 22:55:25 -0400 (Tue, 08 Apr 2025) EndedAt: 2025-04-08 22:59:50 -0400 (Tue, 08 Apr 2025) EllapsedTime: 265.4 seconds RetCode: 0 Status: OK CheckDir: girafe.Rcheck Warnings: 0