Package: girafe Version: 1.59.1 Command: /home/biocbuild/bbs-3.22-bioc/R/bin/R CMD build --keep-empty-dirs --no-resave-data --md5 girafe StartedAt: 2025-04-08 17:31:45 -0400 (Tue, 08 Apr 2025) EndedAt: 2025-04-08 17:32:47 -0400 (Tue, 08 Apr 2025) EllapsedTime: 62.1 seconds RetCode: 0 Status: OK PackageFile: girafe_1.59.1.tar.gz PackageFileSize: 1.541 MiB