Package: ginmappeR Version: 1.5.0 Command: F:\biocbuild\bbs-3.22-bioc\R\bin\R.exe CMD INSTALL ginmappeR StartedAt: 2025-07-22 16:06:14 -0400 (Tue, 22 Jul 2025) EndedAt: 2025-07-22 16:06:47 -0400 (Tue, 22 Jul 2025) EllapsedTime: 32.6 seconds RetCode: 0 Status: OK