Package: ginmappeR Version: 1.5.0 Command: F:\biocbuild\bbs-3.22-bioc\R\bin\R.exe CMD check --no-multiarch --install=check:ginmappeR.install-out.txt --library=F:\biocbuild\bbs-3.22-bioc\R\library --no-vignettes --timings ginmappeR_1.5.0.tar.gz StartedAt: 2025-07-23 02:42:02 -0400 (Wed, 23 Jul 2025) EndedAt: 2025-07-23 02:53:10 -0400 (Wed, 23 Jul 2025) EllapsedTime: 668.0 seconds RetCode: 0 Status: OK CheckDir: ginmappeR.Rcheck Warnings: 0