Package: ginmappeR Version: 1.5.0 Command: chmod a+r ginmappeR -R && F:\biocbuild\bbs-3.22-bioc\R\bin\R.exe CMD build --keep-empty-dirs --no-resave-data ginmappeR StartedAt: 2025-07-22 19:25:22 -0400 (Tue, 22 Jul 2025) EndedAt: 2025-07-22 19:29:03 -0400 (Tue, 22 Jul 2025) EllapsedTime: 221.1 seconds RetCode: 0 Status: OK PackageFile: ginmappeR_1.5.0.tar.gz PackageFileSize: 674.2 KiB