Package: ginmappeR Version: 1.5.0 Command: rm -rf ginmappeR.buildbin-libdir && mkdir ginmappeR.buildbin-libdir && F:\biocbuild\bbs-3.22-bioc\R\bin\R.exe CMD INSTALL --build --library=ginmappeR.buildbin-libdir ginmappeR_1.5.0.tar.gz StartedAt: 2025-07-23 09:14:50 -0400 (Wed, 23 Jul 2025) EndedAt: 2025-07-23 09:15:52 -0400 (Wed, 23 Jul 2025) EllapsedTime: 61.1 seconds RetCode: 0 Status: OK PackageFile: ginmappeR_1.5.0.zip PackageFileSize: 679.6 KiB