Package: ggtreeExtra Version: 1.19.0 Command: F:\biocbuild\bbs-3.22-bioc\R\bin\R.exe CMD INSTALL ggtreeExtra StartedAt: 2025-07-14 15:32:40 -0400 (Mon, 14 Jul 2025) EndedAt: 2025-07-14 15:33:13 -0400 (Mon, 14 Jul 2025) EllapsedTime: 33.1 seconds RetCode: 0 Status: OK