Package: ggtreeExtra Version: 1.19.0 Command: rm -rf ggtreeExtra.buildbin-libdir && mkdir ggtreeExtra.buildbin-libdir && F:\biocbuild\bbs-3.22-bioc\R\bin\R.exe CMD INSTALL --build --library=ggtreeExtra.buildbin-libdir ggtreeExtra_1.19.0.tar.gz StartedAt: 2025-07-15 09:03:28 -0400 (Tue, 15 Jul 2025) EndedAt: 2025-07-15 09:04:07 -0400 (Tue, 15 Jul 2025) EllapsedTime: 39.1 seconds RetCode: 0 Status: OK PackageFile: ggtreeExtra_1.19.0.zip PackageFileSize: 333.5 KiB