Package: ggtreeDendro Version: 1.11.0 Command: /home/biocbuild/R/R/bin/R CMD INSTALL ggtreeDendro StartedAt: 2025-07-24 21:10:24 -0000 (Thu, 24 Jul 2025) EndedAt: 2025-07-24 21:10:57 -0000 (Thu, 24 Jul 2025) EllapsedTime: 32.8 seconds RetCode: 0 Status: OK