Package: ggtreeDendro Version: 1.11.0 Command: /home/biocbuild/R/R/bin/R CMD build --keep-empty-dirs --no-resave-data ggtreeDendro StartedAt: 2025-07-25 00:56:47 -0000 (Fri, 25 Jul 2025) EndedAt: 2025-07-25 00:57:11 -0000 (Fri, 25 Jul 2025) EllapsedTime: 24.0 seconds RetCode: 0 Status: OK PackageFile: ggtreeDendro_1.11.0.tar.gz PackageFileSize: 182 KiB