Package: ggtreeDendro Version: 1.11.0 Command: F:\biocbuild\bbs-3.22-bioc\R\bin\R.exe CMD INSTALL ggtreeDendro StartedAt: 2025-07-24 15:41:15 -0400 (Thu, 24 Jul 2025) EndedAt: 2025-07-24 15:41:32 -0400 (Thu, 24 Jul 2025) EllapsedTime: 16.7 seconds RetCode: 0 Status: OK