Package: ggtreeDendro Version: 1.11.0 Command: /home/biocbuild/bbs-3.22-bioc/R/bin/R CMD INSTALL ggtreeDendro StartedAt: 2025-07-04 15:08:45 -0400 (Fri, 04 Jul 2025) EndedAt: 2025-07-04 15:08:52 -0400 (Fri, 04 Jul 2025) EllapsedTime: 6.6 seconds RetCode: 0 Status: OK